BEGIN:VCALENDAR
PRODID:-//Session events Calendar//IBA//EN
CALSCALE:GREGORIAN
VERSION:2.0
BEGIN:VEVENT
DTSTAMP:20260422T155855Z
DTSTART:20260416T095000Z
DTEND:20260416T110000Z
SUMMARY:Trade dispute settlement under bilateral and multilateral instrum
 ents
DESCRIPTION:
LOCATION:
UID:07c8a3cb-b94e-47df-b222-c4342a2de06f
END:VEVENT
END:VCALENDAR
