BEGIN:VCALENDAR
PRODID:-//Session events Calendar//IBA//EN
CALSCALE:GREGORIAN
VERSION:2.0
BEGIN:VEVENT
DTSTAMP:20260423T144133Z
DTSTART:20260416T071000Z
DTEND:20260416T082000Z
SUMMARY:Supply chain due diligence best practices
DESCRIPTION:
LOCATION:
UID:f73490d9-87dc-4ec6-8568-de8c28639838
END:VEVENT
END:VCALENDAR
