BEGIN:VCALENDAR
PRODID:-//Session events Calendar//IBA//EN
CALSCALE:GREGORIAN
VERSION:2.0
BEGIN:VEVENT
DTSTAMP:20260422T144600Z
DTSTART:20260126T112000Z
DTEND:20260126T123500Z
SUMMARY:Session 4: Career Development
DESCRIPTION:This panel is aimed at young\, ambitious lawyers who are eage
 r to conquer the ever-changing legal world. The panel features seasoned 
 experts who will share invaluable insights\, empowering young lawyers to
  chart a successful career path in the legal domain.\n\nThe panel will d
 iscuss:\n\n\n	International Arbitration careers from a counsel\, arbitra
 tor and institutional perspective. Our distinguished panellists will off
 er exclusive insights into excelling in this dynamic field.\n	Empowering
  Your Journey through Training: discover the art of continuous training 
 and its impact on elevating your legal skills.\n	Entrepreneurial skills:
  explore the practical guidelines\, tools\, and challenges involved in e
 stablishing your own legal practice. Learn the best practices and critic
 al factors to consider on your entrepreneurial path.\n\n
LOCATION:
UID:055c73ec-6b6f-4212-987c-e1236b536b2f
END:VEVENT
END:VCALENDAR
