BEGIN:VCALENDAR
PRODID:-//Session events Calendar//IBA//EN
CALSCALE:GREGORIAN
VERSION:2.0
BEGIN:VEVENT
DTSTAMP:20260421T203315Z
DTSTART:20260326T071500Z
DTEND:20260326T080000Z
SUMMARY:Welcome coffee
DESCRIPTION:
LOCATION:
UID:0eed5de9-640f-468c-9b4b-c6d99b6d96ac
END:VEVENT
END:VCALENDAR
