BEGIN:VCALENDAR
PRODID:-//Session events Calendar//IBA//EN
CALSCALE:GREGORIAN
VERSION:2.0
BEGIN:VEVENT
DTSTAMP:20260421T204318Z
DTSTART:20260326T070000Z
DTEND:20260326T160000Z
SUMMARY: Registration
DESCRIPTION:
LOCATION:
UID:08823d83-4be1-4a3e-ba42-89b05ae19505
END:VEVENT
END:VCALENDAR
