BEGIN:VCALENDAR
PRODID:-//Session events Calendar//IBA//EN
CALSCALE:GREGORIAN
VERSION:2.0
BEGIN:VEVENT
DTSTAMP:20260421T204320Z
DTSTART:20260326T080000Z
DTEND:20260326T081500Z
SUMMARY:Welcome remarks
DESCRIPTION:
LOCATION:
UID:53849768-505f-4610-bea1-d4821a9e0119
END:VEVENT
END:VCALENDAR
