BEGIN:VCALENDAR
PRODID:-//Session events Calendar//IBA//EN
CALSCALE:GREGORIAN
VERSION:2.0
BEGIN:VEVENT
DTSTAMP:20260421T203324Z
DTSTART:20260326T082500Z
DTEND:20260326T091500Z
SUMMARY:State of the market – ESG and market trends
DESCRIPTION:
LOCATION:
UID:d36047ff-4915-4945-9fb5-ee557ffcf8f5
END:VEVENT
END:VCALENDAR
