BEGIN:VCALENDAR
PRODID:-//Session events Calendar//IBA//EN
CALSCALE:GREGORIAN
VERSION:2.0
BEGIN:VEVENT
DTSTAMP:20260421T221531Z
DTSTART:20260326T091500Z
DTEND:20260326T094500Z
SUMMARY:Coffee break 
DESCRIPTION:
LOCATION:
UID:405b5e14-07e4-41dd-bb09-2510c5fc0015
END:VEVENT
END:VCALENDAR
