BEGIN:VCALENDAR
PRODID:-//Session events Calendar//IBA//EN
CALSCALE:GREGORIAN
VERSION:2.0
BEGIN:VEVENT
DTSTAMP:20260421T204311Z
DTSTART:20260326T094500Z
DTEND:20260326T100000Z
SUMMARY:Keynote speech - Anti-corruption 
DESCRIPTION:A concise global outlook on how anti‑corruption legislation a
 nd enforcement influence corporate governance and sustainability strateg
 ies across jurisdictions.
LOCATION:
UID:076384c7-68ab-4613-ac51-deb86062d953
END:VEVENT
END:VCALENDAR
