BEGIN:VCALENDAR
PRODID:-//Session events Calendar//IBA//EN
CALSCALE:GREGORIAN
VERSION:2.0
BEGIN:VEVENT
DTSTAMP:20260421T203325Z
DTSTART:20260326T110000Z
DTEND:20260326T120000Z
SUMMARY:Lunch
DESCRIPTION:
LOCATION:
UID:150b67c2-3a04-4131-bad1-d9e044a902c4
END:VEVENT
END:VCALENDAR
