BEGIN:VCALENDAR
PRODID:-//Session events Calendar//IBA//EN
CALSCALE:GREGORIAN
VERSION:2.0
BEGIN:VEVENT
DTSTAMP:20260421T203323Z
DTSTART:20260326T131500Z
DTEND:20260326T134500Z
SUMMARY:Coffee break 
DESCRIPTION:
LOCATION:
UID:43546da9-c289-4275-99a3-f14c60ebb775
END:VEVENT
END:VCALENDAR
