BEGIN:VCALENDAR
PRODID:-//Session events Calendar//IBA//EN
CALSCALE:GREGORIAN
VERSION:2.0
BEGIN:VEVENT
DTSTAMP:20260421T203326Z
DTSTART:20260326T160000Z
DTEND:20260326T161500Z
SUMMARY:Closing remarks
DESCRIPTION:
LOCATION:
UID:d22a1c9a-e182-4c46-ab7d-47143ccd0a7b
END:VEVENT
END:VCALENDAR
