BEGIN:VCALENDAR
PRODID:-//Session events Calendar//IBA//EN
CALSCALE:GREGORIAN
VERSION:2.0
BEGIN:VEVENT
DTSTAMP:20260421T204620Z
DTSTART:20260327T070000Z
DTEND:20260327T121500Z
SUMMARY:Registration 
DESCRIPTION:
LOCATION:
UID:c18f6759-b779-4d72-a337-806f5e2d97ea
END:VEVENT
END:VCALENDAR
