BEGIN:VCALENDAR
PRODID:-//Session events Calendar//IBA//EN
CALSCALE:GREGORIAN
VERSION:2.0
BEGIN:VEVENT
DTSTAMP:20260421T203327Z
DTSTART:20260327T075000Z
DTEND:20260327T080000Z
SUMMARY:Welcome remarks 
DESCRIPTION:
LOCATION:
UID:78051b43-2929-4fc5-9479-79b8b622d761
END:VEVENT
END:VCALENDAR
