BEGIN:VCALENDAR
PRODID:-//Session events Calendar//IBA//EN
CALSCALE:GREGORIAN
VERSION:2.0
BEGIN:VEVENT
DTSTAMP:20260421T221531Z
DTSTART:20260327T080000Z
DTEND:20260327T081500Z
SUMMARY:Nature and biodiversity: a new frontier of legal risk and opportu
 nity – introducing the IBA Nature-Intelligent legal services toolkit
DESCRIPTION:Risks linked to organisations’ dependencies and impacts on na
 ture – from climate change\, biodiversity loss and water scarcity to lan
 d degradation and disease – are increasingly recognised as material lega
 l and financial risks. This keynote highlights these trends\, future dir
 ections\, and how the IBA’s new Nature-Intelligent Legal Services Toolki
 t helps lawyers to understand their clients’ exposure to nature-related 
 risks and build nature considerations into their legal services.
LOCATION:
UID:219703e4-d25e-4e2f-8b5a-2560ba80c042
END:VEVENT
END:VCALENDAR
