BEGIN:VCALENDAR
PRODID:-//Session events Calendar//IBA//EN
CALSCALE:GREGORIAN
VERSION:2.0
BEGIN:VEVENT
DTSTAMP:20260421T205216Z
DTSTART:20260327T081500Z
DTEND:20260327T091500Z
SUMMARY:Responsibility in mining and mineral extraction
DESCRIPTION:Critical minerals are essential to the energy transition\, di
 gital infrastructure\, and electrification. But securing them responsibl
 y presents complex ESG challenges. This panel of in-house counsel will d
 iscuss how mining and mineral extraction companies are addressing the co
 mplex risks in mining\, such as Indigenous rights\, land use\, permittin
 g\, modern slavery\, and shareholder activism in a sector under increasi
 ng global scrutiny\n
LOCATION:
UID:cea0e999-4341-4976-8cb9-3c182d4b553e
END:VEVENT
END:VCALENDAR
