BEGIN:VCALENDAR
PRODID:-//Session events Calendar//IBA//EN
CALSCALE:GREGORIAN
VERSION:2.0
BEGIN:VEVENT
DTSTAMP:20260426T035350Z
DTSTART:20260309T080000Z
DTEND:20260309T173000Z
SUMMARY:Registration 
DESCRIPTION:
LOCATION:The Ballroom Hall
UID:8eb37dac-9f63-495d-ace0-ef2167071b7e
END:VEVENT
END:VCALENDAR
