BEGIN:VCALENDAR
PRODID:-//Session events Calendar//IBA//EN
CALSCALE:GREGORIAN
VERSION:2.0
BEGIN:VEVENT
DTSTAMP:20260426T035349Z
DTSTART:20260309T090000Z
DTEND:20260309T090500Z
SUMMARY:Remarks by IBA Leadership
DESCRIPTION:
LOCATION:The Grand Ballroom
UID:692bff4b-43ee-419d-88d6-a9bf5bcb2343
END:VEVENT
END:VCALENDAR
