BEGIN:VCALENDAR
PRODID:-//Session events Calendar//IBA//EN
CALSCALE:GREGORIAN
VERSION:2.0
BEGIN:VEVENT
DTSTAMP:20260425T234105Z
DTSTART:20260309T090500Z
DTEND:20260309T091500Z
SUMMARY:Welcome Remarks by the Conference Chair
DESCRIPTION:
LOCATION:The Grand Ballroom
UID:f8d32b3d-66c9-4023-afb2-8be46cb6ba90
END:VEVENT
END:VCALENDAR
