BEGIN:VCALENDAR
PRODID:-//Session events Calendar//IBA//EN
CALSCALE:GREGORIAN
VERSION:2.0
BEGIN:VEVENT
DTSTAMP:20260426T035350Z
DTSTART:20260309T111500Z
DTEND:20260309T121500Z
SUMMARY:Keynote address
DESCRIPTION:
LOCATION:The Grand Ballroom
UID:3fd6b1bd-277b-4629-884b-833d70fe69f3
END:VEVENT
END:VCALENDAR
