BEGIN:VCALENDAR
PRODID:-//Session events Calendar//IBA//EN
CALSCALE:GREGORIAN
VERSION:2.0
BEGIN:VEVENT
DTSTAMP:20260426T035230Z
DTSTART:20260309T101500Z
DTEND:20260309T110000Z
SUMMARY:Plenary session 2: Evolving impact of the changing political land
 scape
DESCRIPTION:This panel will explore recent developments in the geopolitic
 al landscape and their effect on fund investments strategies. Topics wil
 l include US tariffs\, changes in US regulation of private funds and cry
 pto investments\, changes in EU and UK regulatory regimes\, regulation o
 f AI and….\n\nTopics to Include:\n• Crypto - the Genius Act\n• Pending l
 egislation\n• Tax treatment of stablecoins\n• Tokenization of securities
 \n• Kwon conviction\n
LOCATION:The Grand Ballroom
UID:aba54ca3-79ba-4f14-8784-f5434e397202
END:VEVENT
END:VCALENDAR
