BEGIN:VCALENDAR
PRODID:-//Session events Calendar//IBA//EN
CALSCALE:GREGORIAN
VERSION:2.0
BEGIN:VEVENT
DTSTAMP:20260426T035238Z
DTSTART:20260309T100000Z
DTEND:20260309T101500Z
SUMMARY:Coffee/tea Break
DESCRIPTION:
LOCATION:The Marble Ballroom
UID:6583996d-df21-4d0f-8d26-0067084039b3
END:VEVENT
END:VCALENDAR
