BEGIN:VCALENDAR
PRODID:-//Session events Calendar//IBA//EN
CALSCALE:GREGORIAN
VERSION:2.0
BEGIN:VEVENT
DTSTAMP:20260426T035238Z
DTSTART:20260309T091500Z
DTEND:20260309T100000Z
SUMMARY:Plenary session 1: Key developments in retail products\, includin
 g new focus on 401k investors
DESCRIPTION:The panelists will discuss key developments in retail offerin
 gs with a focus on the interplay between high net worth and institutiona
 l products.\n\nTopics to Include:\n• Continued regulatory reforms in key
  fund jurisdictions to complement the continued retailisation in terms o
 f fund products and distribution channels \n• Placement of alternative i
 nvestment products in key retail jurisdictions\n
LOCATION:The Grand Ballroom
UID:a4dab32b-1bc4-4f85-adc9-50e28560124e
END:VEVENT
END:VCALENDAR
