BEGIN:VCALENDAR
PRODID:-//Session events Calendar//IBA//EN
CALSCALE:GREGORIAN
VERSION:2.0
BEGIN:VEVENT
DTSTAMP:20260426T035350Z
DTSTART:20260309T121500Z
DTEND:20260309T123000Z
SUMMARY:Break to move to workshops
DESCRIPTION:
LOCATION:
UID:710691d3-d4f6-4d88-87e2-a55e80568ae7
END:VEVENT
END:VCALENDAR
