BEGIN:VCALENDAR
PRODID:-//Session events Calendar//IBA//EN
CALSCALE:GREGORIAN
VERSION:2.0
BEGIN:VEVENT
DTSTAMP:20260426T035238Z
DTSTART:20260309T123000Z
DTEND:20260309T131500Z
SUMMARY:First workshop sessions - Workshop 2: “Back to the future”: everg
 reen funds combined with key trends – hedge\, hybrid and other open-ende
 d funds 
DESCRIPTION:\nThis workshop will discuss funds pursuing liquid or quasi-l
 iquid strategies\, including open end (hedge) structures\, evergreen str
 uctures\, and methods for combining liquid and investment strategies usi
 ng side pockets\, gates\, redemption queues and other hybrid structures.
  Participants will discuss considerations in choosing among these strate
 gies and fee and liquidity terms.\n
LOCATION:Drawing Room
UID:d75a3309-9573-4262-9f1b-00e872f0743b
END:VEVENT
END:VCALENDAR
