BEGIN:VCALENDAR
PRODID:-//Session events Calendar//IBA//EN
CALSCALE:GREGORIAN
VERSION:2.0
BEGIN:VEVENT
DTSTAMP:20260426T035238Z
DTSTART:20260309T131500Z
DTEND:20260309T143000Z
SUMMARY:Lunch
DESCRIPTION:
LOCATION:The Marble Ballroom
UID:e9e444e6-29ea-4df7-9025-c1612c05ae37
END:VEVENT
END:VCALENDAR
