BEGIN:VCALENDAR
PRODID:-//Session events Calendar//IBA//EN
CALSCALE:GREGORIAN
VERSION:2.0
BEGIN:VEVENT
DTSTAMP:20260426T035350Z
DTSTART:20260309T143000Z
DTEND:20260309T151500Z
SUMMARY:Second workshop sessions - Workshop 6: “Battle of the jurisdictio
 ns”: Cayman\, Delaware\, Guernsey\, Jersey\, Luxembourg\, Ireland
DESCRIPTION:This workshop will go over some of the world’s most prominent
  fund jurisdictions—Cayman\, Delaware\, the Channel Islands\, Luxembourg
 \, and Ireland—exploring how each stacks up in today’s evolving regulato
 ry\, tax\, and investor landscape.
LOCATION:Empire Room
UID:285463c7-cc01-4655-aff9-478e151ce5fa
END:VEVENT
END:VCALENDAR
