BEGIN:VCALENDAR
PRODID:-//Session events Calendar//IBA//EN
CALSCALE:GREGORIAN
VERSION:2.0
BEGIN:VEVENT
DTSTAMP:20260426T035350Z
DTSTART:20260309T151500Z
DTEND:20260309T154500Z
SUMMARY:Coffee/tea Break
DESCRIPTION:
LOCATION:The Marble Ballroom
UID:8628547c-dffc-435b-a08d-f972db605d8a
END:VEVENT
END:VCALENDAR
