BEGIN:VCALENDAR
PRODID:-//Session events Calendar//IBA//EN
CALSCALE:GREGORIAN
VERSION:2.0
BEGIN:VEVENT
DTSTAMP:20260426T035237Z
DTSTART:20260309T143000Z
DTEND:20260309T151500Z
SUMMARY:Second workshop sessions - Workshop 5: Regional funds\, with an e
 mphasis on Asia\, Europe and Middle East-focused funds
DESCRIPTION:\nThis workshop will highlight key fundraising trends around 
 the globe\, including Asia\, Europe and the Middle East. In particular\,
  this panel will focus on regional developments in funds\, fundraising a
 nd investments\, as well as investment considerations related to the geo
 political environment.\n
LOCATION:Drawing Room
UID:4deafcc2-4429-45d6-ba5b-cb15393404f7
END:VEVENT
END:VCALENDAR
