BEGIN:VCALENDAR
PRODID:-//Session events Calendar//IBA//EN
CALSCALE:GREGORIAN
VERSION:2.0
BEGIN:VEVENT
DTSTAMP:20260425T215133Z
DTSTART:20260309T163000Z
DTEND:20260309T164500Z
SUMMARY:Break to return to plenary session
DESCRIPTION:
LOCATION:
UID:27e5d441-1422-4e1b-b31b-dd226130eab7
END:VEVENT
END:VCALENDAR
