BEGIN:VCALENDAR
PRODID:-//Session events Calendar//IBA//EN
CALSCALE:GREGORIAN
VERSION:2.0
BEGIN:VEVENT
DTSTAMP:20260425T220219Z
DTSTART:20260309T164500Z
DTEND:20260309T173000Z
SUMMARY:Plenary session 3: GP solutions – how transformative transactions
  (AM M&A\, stakes\, end of life/exit strategy\, secondaries\, continuati
 ons funds)
DESCRIPTION:We will discuss how GPs are increasingly turning to transform
 ative solutions as private markets mature to drive growth\, enhance stab
 ility and navigate key inflection points. This session will explore the 
 evolving toolkit available to managers— including asset management M&amp
 \;A\, minority stakes transactions\, financing transactions and strategi
 es\, and a range of secondaries and continuation fund\, and other exit s
 trategies.\n\nTopics to Include:\n• Asset Management M&amp\;A\n• Minorit
 y stakes and financing transactions\n• End of life/exit strategies\n• Se
 condaries and continuation funds\n• EMG\n
LOCATION:The Grand Ballroom
UID:7b73c29f-334c-4f7c-b4f2-087af3dc5ffb
END:VEVENT
END:VCALENDAR
