BEGIN:VCALENDAR
PRODID:-//Session events Calendar//IBA//EN
CALSCALE:GREGORIAN
VERSION:2.0
BEGIN:VEVENT
DTSTAMP:20260425T215133Z
DTSTART:20260310T083000Z
DTEND:20260310T140000Z
SUMMARY:Registration
DESCRIPTION:
LOCATION:The Ballroom Hall
UID:0fc2594c-9a3b-46f6-bbbe-531ef571cc19
END:VEVENT
END:VCALENDAR
