BEGIN:VCALENDAR
PRODID:-//Session events Calendar//IBA//EN
CALSCALE:GREGORIAN
VERSION:2.0
BEGIN:VEVENT
DTSTAMP:20260425T220219Z
DTSTART:20260310T090000Z
DTEND:20260310T090500Z
SUMMARY:Remarks by the Asset Management and Investment Funds Committee
DESCRIPTION:
LOCATION:The Grand Ballroom
UID:ca4329d4-218c-4e7e-bdea-04a1ace7935c
END:VEVENT
END:VCALENDAR
