BEGIN:VCALENDAR
PRODID:-//Session events Calendar//IBA//EN
CALSCALE:GREGORIAN
VERSION:2.0
BEGIN:VEVENT
DTSTAMP:20260425T215133Z
DTSTART:20260310T090500Z
DTEND:20260310T094500Z
SUMMARY:SEC priorities
DESCRIPTION:
LOCATION:The Grand Ballroom
UID:89eff0dd-c885-42e5-a935-86ddb5739d2c
END:VEVENT
END:VCALENDAR
