BEGIN:VCALENDAR
PRODID:-//Session events Calendar//IBA//EN
CALSCALE:GREGORIAN
VERSION:2.0
BEGIN:VEVENT
DTSTAMP:20260425T230135Z
DTSTART:20260310T094500Z
DTEND:20260310T103000Z
SUMMARY:Plenary session 4: Interactive industry roundup
DESCRIPTION:Please join us for an “interactive” panel including the confe
 rence organizing committee who will discuss the current state of the pri
 vate investment funds industry. Based on real time feedback from confere
 nce participants\, panelists will share their insights regarding how the
  private funds market has evolved and how they expect to see it grow in 
 the future.\n\nParticipants can join at slido.com #1350073\n\n\n
LOCATION:The Grand Ballroom
UID:b02bac16-ddc6-4b6c-b8bf-661120316ff9
END:VEVENT
END:VCALENDAR
