BEGIN:VCALENDAR
PRODID:-//Session events Calendar//IBA//EN
CALSCALE:GREGORIAN
VERSION:2.0
BEGIN:VEVENT
DTSTAMP:20260425T215117Z
DTSTART:20260310T103000Z
DTEND:20260310T111500Z
SUMMARY:Plenary session 5: GC fireside chat
DESCRIPTION:This panel will involve an informal discussion on issues that
  fund managers are facing in the current marketplace. The panelists will
  discuss their views on the state of the industry\, regulatory challenge
 s and evolving strategies and business lines.\n
LOCATION:The Grand Ballroom
UID:293ac43a-3641-4bbd-a54d-06e7bccd45a1
END:VEVENT
END:VCALENDAR
