BEGIN:VCALENDAR
PRODID:-//Session events Calendar//IBA//EN
CALSCALE:GREGORIAN
VERSION:2.0
BEGIN:VEVENT
DTSTAMP:20260425T215235Z
DTSTART:20260310T111500Z
DTEND:20260310T112500Z
SUMMARY:Coffee/tea Break
DESCRIPTION:
LOCATION:The Marble Ballroom
UID:3133eab6-dd73-4328-ba0d-ef35f580b437
END:VEVENT
END:VCALENDAR
