BEGIN:VCALENDAR
PRODID:-//Session events Calendar//IBA//EN
CALSCALE:GREGORIAN
VERSION:2.0
BEGIN:VEVENT
DTSTAMP:20260425T215133Z
DTSTART:20260310T112500Z
DTEND:20260310T113000Z
SUMMARY:Second day remarks by Conference Chair
DESCRIPTION:
LOCATION:The Grand Ballroom
UID:f2419399-1940-432d-8a48-88b67afa1f27
END:VEVENT
END:VCALENDAR
