BEGIN:VCALENDAR
PRODID:-//Session events Calendar//IBA//EN
CALSCALE:GREGORIAN
VERSION:2.0
BEGIN:VEVENT
DTSTAMP:20260425T220219Z
DTSTART:20260310T113000Z
DTEND:20260310T121500Z
SUMMARY:Plenary session 6: How AI is shaping our business (client expecta
 tions around law firm AI use – pressure from their business professional
 s\; tech and MFN process\; other applications)
DESCRIPTION:We will discuss how technology continues to transform private
  funds as well as legal services generally. Participants will discuss ho
 w GPs\, LPs and law firms are currently leveraging AI\, plans and predic
 tions regarding the impact of AI on law firms\, as well as current thoug
 hts on\, and potential approaches to addressing\, the security\, ethical
  and regulatory concerns raised by AI.\n\n\nTopics to Include:\n• How is
  AI currently being leveraged on the speakers’ funds work to date? Plans
  for future expansion?\n• Client expectations &amp\; approvals around la
 w firm AI use\n• AI adoption by in house legal teams versus law firms\n•
  Risks and concerns around use of AI in legal work\n• How AI may change 
 law firm billing\n
LOCATION:The Grand Ballroom
UID:f0037a9c-a891-42ad-a22a-023cf71f5895
END:VEVENT
END:VCALENDAR
