BEGIN:VCALENDAR
PRODID:-//Session events Calendar//IBA//EN
CALSCALE:GREGORIAN
VERSION:2.0
BEGIN:VEVENT
DTSTAMP:20260423T174235Z
DTSTART:20260310T121500Z
DTEND:20260310T130000Z
SUMMARY:Plenary session 7: What’s next: Investments in the next decade\, 
 including crypto\, sports\, etc.
DESCRIPTION:We will discuss the emerging opportunities shaping the next d
 ecade of investing—from crypto and digital assets to sports\, media\, an
 d other high-growth sectors. Panelists will discuss the trends driving t
 hese markets\, key risks\, and how investors are positioning to capture 
 future returns.
LOCATION:The Grand Ballroom
UID:3e7ba834-61f7-424f-aaa3-5a884e89e19f
END:VEVENT
END:VCALENDAR
