BEGIN:VCALENDAR
PRODID:-//Session events Calendar//IBA//EN
CALSCALE:GREGORIAN
VERSION:2.0
BEGIN:VEVENT
DTSTAMP:20260425T230030Z
DTSTART:20260310T130000Z
DTEND:20260310T140000Z
SUMMARY:Lunch
DESCRIPTION:
LOCATION:The Marble Ballroom
UID:ec6cfa95-01be-47f0-88d3-7f0f09625b2f
END:VEVENT
END:VCALENDAR
