BEGIN:VCALENDAR
PRODID:-//Session events Calendar//IBA//EN
CALSCALE:GREGORIAN
VERSION:2.0
BEGIN:VEVENT
DTSTAMP:20260425T165549Z
DTSTART:20260312T140000Z
DTEND:20260312T144500Z
SUMMARY:Fireside chat: acquiring and integrating a Barcelona Unicorn: les
 sons learned from the buy side  
DESCRIPTION:
LOCATION:
UID:8fca4d01-3c0b-42c2-a7dc-8bf02c27c69b
END:VEVENT
END:VCALENDAR
