BEGIN:VCALENDAR
PRODID:-//Session events Calendar//IBA//EN
CALSCALE:GREGORIAN
VERSION:2.0
BEGIN:VEVENT
DTSTAMP:20260425T200728Z
DTSTART:20260313T103000Z
DTEND:20260313T114500Z
SUMMARY:Inhouse perspectives in tech and M&A
DESCRIPTION:
LOCATION:
UID:3e18d446-374b-4e8c-a5a3-92ebd7bc5ae6
END:VEVENT
END:VCALENDAR
