BEGIN:VCALENDAR
PRODID:-//Session events Calendar//IBA//EN
CALSCALE:GREGORIAN
VERSION:2.0
BEGIN:VEVENT
DTSTAMP:20260421T205216Z
DTSTART:20260212T043000Z
DTEND:20260212T053000Z
SUMMARY:Registration and morning refreshments
DESCRIPTION:
LOCATION:
UID:d49faf64-e25b-41a6-8fae-43609ad84eb4
END:VEVENT
END:VCALENDAR
