BEGIN:VCALENDAR
PRODID:-//Session events Calendar//IBA//EN
CALSCALE:GREGORIAN
VERSION:2.0
BEGIN:VEVENT
DTSTAMP:20260421T205216Z
DTSTART:20260212T053000Z
DTEND:20260212T062000Z
SUMMARY:The UAE\, a globally attractive destination
DESCRIPTION:The Governments of the UAE\, Abu Dhabi and Dubai have strong 
 reputations for moving quickly and effectively in all areas of developme
 nt. How has Government created a destination that is attractive to inves
 tors\, entrepreneurs\,professionals\, ultra-high net worth individuals a
 nd others?\n
LOCATION:
UID:6e4a54d7-60e3-41ab-be02-d5eb04fb7ea6
END:VEVENT
END:VCALENDAR
