BEGIN:VCALENDAR
PRODID:-//Session events Calendar//IBA//EN
CALSCALE:GREGORIAN
VERSION:2.0
BEGIN:VEVENT
DTSTAMP:20260421T205206Z
DTSTART:20260212T062000Z
DTEND:20260212T070000Z
SUMMARY:From Adoption to Integration: Making AI an Essential Part of Your
  Legal Workflow
DESCRIPTION:Receive an update on the role of technology in enabling legal
  professionals to access knowledge and make data-driven decisions. Discu
 ssion will also focus on how enhanced access to information is improving
  client interactions and service delivery.\n
LOCATION:
UID:617d2652-8868-422e-84d6-c1c6d47fdcbd
END:VEVENT
END:VCALENDAR
