BEGIN:VCALENDAR
PRODID:-//Session events Calendar//IBA//EN
CALSCALE:GREGORIAN
VERSION:2.0
BEGIN:VEVENT
DTSTAMP:20260421T205206Z
DTSTART:20260212T070000Z
DTEND:20260212T073000Z
SUMMARY:Refreshments and networking break
DESCRIPTION:
LOCATION:
UID:0e1d9c1e-bdb5-4314-a50b-2def36acb41a
END:VEVENT
END:VCALENDAR
