BEGIN:VCALENDAR
PRODID:-//Session events Calendar//IBA//EN
CALSCALE:GREGORIAN
VERSION:2.0
BEGIN:VEVENT
DTSTAMP:20260421T205205Z
DTSTART:20260212T073000Z
DTEND:20260212T081500Z
SUMMARY:The clients speak – a panel of leading regional GCs will provide 
 views on the current legal ecosystem of the region\, and will comment on
  trends and opportunities.
DESCRIPTION:Leading GCs discuss the market for legal services\, changes t
 hey have observed and enhancements they predict or desire.\n
LOCATION:
UID:3b445c7d-9b5a-4e17-800d-785484d35ed4
END:VEVENT
END:VCALENDAR
