BEGIN:VCALENDAR
PRODID:-//Session events Calendar//IBA//EN
CALSCALE:GREGORIAN
VERSION:2.0
BEGIN:VEVENT
DTSTAMP:20260421T205206Z
DTSTART:20260212T081500Z
DTEND:20260212T090000Z
SUMMARY:Pitching and panel appointments – how can law firms stand out fro
 m the crowd?
DESCRIPTION:How do you stand out from the crowd when your firm has been a
 ppointed as part of a panel or framework? In this session\, two leading 
 GCs and a BD professional will discuss how law firms can successfully mo
 bilise appointments\, develop and enhance relationships with instructing
  counsel and in-house legal teams and ensure that law firms deliver on p
 romises made in a bid.\n
LOCATION:
UID:9325137d-b043-49f6-8d5f-578510cd1652
END:VEVENT
END:VCALENDAR
