BEGIN:VCALENDAR
PRODID:-//Session events Calendar//IBA//EN
CALSCALE:GREGORIAN
VERSION:2.0
BEGIN:VEVENT
DTSTAMP:20260421T205206Z
DTSTART:20260212T103000Z
DTEND:20260212T111000Z
SUMMARY:Discussion with Business Leaders
DESCRIPTION:Two business leaders discuss the rapid and continuous develop
 ment of the region.\n
LOCATION:
UID:49c00445-c919-4164-817a-4cd03d75cf58
END:VEVENT
END:VCALENDAR
